BEGIN:VCALENDAR
VERSION:2.0
PRODID:-//The STEAD School - ECPv6.15.20//NONSGML v1.0//EN
CALSCALE:GREGORIAN
METHOD:PUBLISH
X-WR-CALNAME:The STEAD School
X-ORIGINAL-URL:https://www.thesteadschool.org
X-WR-CALDESC:Events for The STEAD School
REFRESH-INTERVAL;VALUE=DURATION:PT1H
X-Robots-Tag:noindex
X-PUBLISHED-TTL:PT1H
BEGIN:VTIMEZONE
TZID:America/Denver
BEGIN:DAYLIGHT
TZOFFSETFROM:-0700
TZOFFSETTO:-0600
TZNAME:MDT
DTSTART:20190310T090000
END:DAYLIGHT
BEGIN:STANDARD
TZOFFSETFROM:-0600
TZOFFSETTO:-0700
TZNAME:MST
DTSTART:20191103T080000
END:STANDARD
BEGIN:DAYLIGHT
TZOFFSETFROM:-0700
TZOFFSETTO:-0600
TZNAME:MDT
DTSTART:20200308T090000
END:DAYLIGHT
BEGIN:STANDARD
TZOFFSETFROM:-0600
TZOFFSETTO:-0700
TZNAME:MST
DTSTART:20201101T080000
END:STANDARD
BEGIN:DAYLIGHT
TZOFFSETFROM:-0700
TZOFFSETTO:-0600
TZNAME:MDT
DTSTART:20210314T090000
END:DAYLIGHT
BEGIN:STANDARD
TZOFFSETFROM:-0600
TZOFFSETTO:-0700
TZNAME:MST
DTSTART:20211107T080000
END:STANDARD
END:VTIMEZONE
BEGIN:VEVENT
DTSTART;TZID=America/Denver:20201130T190000
DTEND;TZID=America/Denver:20201130T200000
DTSTAMP:20260422T103449
CREATED:20201121T201853Z
LAST-MODIFIED:20201121T201853Z
UID:1281-1606762800-1606766400@www.thesteadschool.org
SUMMARY:STEAD 202 Session
DESCRIPTION:STEAD 202 are sessions designed for those who have already attended a regular session and want to go deeper into the details on things like the schedule\, curriculum\, and other nitty gritty details\, as well as ample time for specific questions. These 202 sessions are NOT required as part of the enrollment process. Register using the link below.  Meeting detail will be provided after registrations. Thank you and we cannot wait to continue the conversation. \nREGISTER HERE
URL:https://www.thesteadschool.org/event/stead-202-session/
LOCATION:CO
ATTACH;FMTTYPE=image/jpeg:https://www.thesteadschool.org/wp-content/uploads/Info-Session-scaled.jpg
END:VEVENT
END:VCALENDAR