BEGIN:VCALENDAR
VERSION:2.0
PRODID:-//The STEAD School - ECPv6.15.20//NONSGML v1.0//EN
CALSCALE:GREGORIAN
METHOD:PUBLISH
X-WR-CALNAME:The STEAD School
X-ORIGINAL-URL:https://www.thesteadschool.org
X-WR-CALDESC:Events for The STEAD School
REFRESH-INTERVAL;VALUE=DURATION:PT1H
X-Robots-Tag:noindex
X-PUBLISHED-TTL:PT1H
BEGIN:VTIMEZONE
TZID:America/Denver
BEGIN:DAYLIGHT
TZOFFSETFROM:-0700
TZOFFSETTO:-0600
TZNAME:MDT
DTSTART:20200308T090000
END:DAYLIGHT
BEGIN:STANDARD
TZOFFSETFROM:-0600
TZOFFSETTO:-0700
TZNAME:MST
DTSTART:20201101T080000
END:STANDARD
BEGIN:DAYLIGHT
TZOFFSETFROM:-0700
TZOFFSETTO:-0600
TZNAME:MDT
DTSTART:20210314T090000
END:DAYLIGHT
BEGIN:STANDARD
TZOFFSETFROM:-0600
TZOFFSETTO:-0700
TZNAME:MST
DTSTART:20211107T080000
END:STANDARD
BEGIN:DAYLIGHT
TZOFFSETFROM:-0700
TZOFFSETTO:-0600
TZNAME:MDT
DTSTART:20220313T090000
END:DAYLIGHT
BEGIN:STANDARD
TZOFFSETFROM:-0600
TZOFFSETTO:-0700
TZNAME:MST
DTSTART:20221106T080000
END:STANDARD
END:VTIMEZONE
BEGIN:VEVENT
DTSTART;TZID=America/Denver:20211215T160000
DTEND;TZID=America/Denver:20211215T190000
DTSTAMP:20260419T132112
CREATED:20211207T180111Z
LAST-MODIFIED:20211207T180233Z
UID:3298-1639584000-1639594800@www.thesteadschool.org
SUMMARY:Girls & Boys Basketball Games vs. Niwot High School
DESCRIPTION:Boys Game – 4pm \nGirls Game – 5:30pm
URL:https://www.thesteadschool.org/event/girls-boys-basketball-games-vs-niwot-high-school/
LOCATION:Niwot High School\, 8989 Niwot Rd\, Niwot\, CO\, 80503
END:VEVENT
BEGIN:VEVENT
DTSTART;TZID=America/Denver:20211213T153000
DTEND;TZID=America/Denver:20211213T170000
DTSTAMP:20260419T132112
CREATED:20211130T231120Z
LAST-MODIFIED:20211215T165938Z
UID:3265-1639409400-1639414800@www.thesteadschool.org
SUMMARY:Girls Basketball Practice - Bison Ridge Rec Center
DESCRIPTION:
URL:https://www.thesteadschool.org/event/girls-basketball-practice-reunion-rec-center-6/2021-12-13/
LOCATION:CO
END:VEVENT
BEGIN:VEVENT
DTSTART;TZID=America/Denver:20211210T160000
DTEND;TZID=America/Denver:20211210T161500
DTSTAMP:20260419T132112
CREATED:20211208T154355Z
LAST-MODIFIED:20211208T154355Z
UID:3311-1639152000-1639152900@www.thesteadschool.org
SUMMARY:Board Meeting
DESCRIPTION:The STEAD School Board Meeting – Emergency Operations Procedures \nDue to City and State Guidelines for COVID-19\, meetings are being held via telephone. \nPublic is welcome! Please call\, 515-604-9331 access code 811769 to join.
URL:https://www.thesteadschool.org/event/board-meeting-2/
LOCATION:CO
END:VEVENT
BEGIN:VEVENT
DTSTART;TZID=America/Denver:20211210T060000
DTEND;TZID=America/Denver:20211210T073000
DTSTAMP:20260419T132112
CREATED:20211130T214149Z
LAST-MODIFIED:20211130T214149Z
UID:3255-1639116000-1639121400@www.thesteadschool.org
SUMMARY:Girls Basketball Practice - Reunion Rec Center
DESCRIPTION:
URL:https://www.thesteadschool.org/event/girls-basketball-practice-reunion-rec-center-5/
LOCATION:CO
END:VEVENT
BEGIN:VEVENT
DTSTART;TZID=America/Denver:20211209T060000
DTEND;TZID=America/Denver:20211209T073000
DTSTAMP:20260419T132112
CREATED:20211130T214123Z
LAST-MODIFIED:20211130T214123Z
UID:3253-1639029600-1639035000@www.thesteadschool.org
SUMMARY:Girls Basketball Practice - Reunion Rec Center
DESCRIPTION:
URL:https://www.thesteadschool.org/event/girls-basketball-practice-reunion-rec-center-4/
LOCATION:CO
END:VEVENT
BEGIN:VEVENT
DTSTART;TZID=America/Denver:20211208T060000
DTEND;TZID=America/Denver:20211208T073000
DTSTAMP:20260419T132112
CREATED:20211130T214014Z
LAST-MODIFIED:20211130T214014Z
UID:3251-1638943200-1638948600@www.thesteadschool.org
SUMMARY:Girls Basketball Practice - Reunion Rec Center
DESCRIPTION:
URL:https://www.thesteadschool.org/event/girls-basketball-practice-reunion-rec-center-3/
LOCATION:CO
END:VEVENT
BEGIN:VEVENT
DTSTART;TZID=America/Denver:20211207T060000
DTEND;TZID=America/Denver:20211207T073000
DTSTAMP:20260419T132112
CREATED:20211130T213951Z
LAST-MODIFIED:20211130T213951Z
UID:3249-1638856800-1638862200@www.thesteadschool.org
SUMMARY:Girls Basketball Practice - Reunion Rec Center
DESCRIPTION:
URL:https://www.thesteadschool.org/event/girls-basketball-practice-reunion-rec-center-2/
LOCATION:CO
END:VEVENT
BEGIN:VEVENT
DTSTART;TZID=America/Denver:20211206T153000
DTEND;TZID=America/Denver:20211206T170000
DTSTAMP:20260419T132112
CREATED:20211130T230901Z
LAST-MODIFIED:20211130T230901Z
UID:3259-1638804600-1638810000@www.thesteadschool.org
SUMMARY:Boys Basketball Practice - Bison Ridge Rec Center
DESCRIPTION:
URL:https://www.thesteadschool.org/event/boys-basketball-practice-bison-ridge-rec-center/2021-12-06/
LOCATION:CO
END:VEVENT
BEGIN:VEVENT
DTSTART;TZID=America/Denver:20211206T060000
DTEND;TZID=America/Denver:20211206T073000
DTSTAMP:20260419T132112
CREATED:20211130T213919Z
LAST-MODIFIED:20211130T213919Z
UID:3247-1638770400-1638775800@www.thesteadschool.org
SUMMARY:Girls Basketball Practice - Reunion Rec Center
DESCRIPTION:
URL:https://www.thesteadschool.org/event/girls-basketball-practice-reunion-rec-center/
LOCATION:CO
END:VEVENT
BEGIN:VEVENT
DTSTART;TZID=America/Denver:20211203T190000
DTEND;TZID=America/Denver:20211203T210000
DTSTAMP:20260419T132112
CREATED:20211202T191642Z
LAST-MODIFIED:20211202T191642Z
UID:3288-1638558000-1638565200@www.thesteadschool.org
SUMMARY:Neon Northern Lights Winter Dance
DESCRIPTION:Neon Northern Lights Themed \nSemi-Formal Dress Code \nPermission Form Must Be Signed & Submitted \nCost – $15 (financial assistance request box available on the permission form)
URL:https://www.thesteadschool.org/event/neon-northern-lights-winter-dance/
LOCATION:The STEAD School\, 18251 Homestead Trail\, Commerce City\, CO\, 80022\, United States
END:VEVENT
BEGIN:VEVENT
DTSTART;TZID=America/Denver:20211203T153000
DTEND;TZID=America/Denver:20211203T170000
DTSTAMP:20260419T132112
CREATED:20211130T213714Z
LAST-MODIFIED:20211130T213714Z
UID:3245-1638545400-1638550800@www.thesteadschool.org
SUMMARY:Girls Basketball Practice - Bison Ridge Rec Center
DESCRIPTION:
URL:https://www.thesteadschool.org/event/girls-basketball-practice-bison-ridge-rec-center-5/
LOCATION:CO
END:VEVENT
BEGIN:VEVENT
DTSTART;TZID=America/Denver:20211202T163000
DTEND;TZID=America/Denver:20211202T180000
DTSTAMP:20260419T132112
CREATED:20211130T190310Z
LAST-MODIFIED:20211130T190310Z
UID:3233-1638462600-1638468000@www.thesteadschool.org
SUMMARY:Boys Basketball Game vs. Liberty Common High School
DESCRIPTION:
URL:https://www.thesteadschool.org/event/boys-basketball-game-vs-liberty-common-high-school/
LOCATION:CO
END:VEVENT
BEGIN:VEVENT
DTSTART;TZID=America/Denver:20211202T153000
DTEND;TZID=America/Denver:20211202T170000
DTSTAMP:20260419T132112
CREATED:20211130T213654Z
LAST-MODIFIED:20211130T213654Z
UID:3243-1638459000-1638464400@www.thesteadschool.org
SUMMARY:Girls Basketball Practice - Bison Ridge Rec Center
DESCRIPTION:
URL:https://www.thesteadschool.org/event/girls-basketball-practice-bison-ridge-rec-center-4/
LOCATION:CO
END:VEVENT
BEGIN:VEVENT
DTSTART;TZID=America/Denver:20211201T153000
DTEND;TZID=America/Denver:20211201T170000
DTSTAMP:20260419T132112
CREATED:20211130T213638Z
LAST-MODIFIED:20211130T213638Z
UID:3241-1638372600-1638378000@www.thesteadschool.org
SUMMARY:Girls Basketball Practice - Bison Ridge Rec Center
DESCRIPTION:
URL:https://www.thesteadschool.org/event/girls-basketball-practice-bison-ridge-rec-center-3/
LOCATION:CO
END:VEVENT
BEGIN:VEVENT
DTSTART;TZID=America/Denver:20211130T160000
DTEND;TZID=America/Denver:20211130T173000
DTSTAMP:20260419T132112
CREATED:20211118T000733Z
LAST-MODIFIED:20211118T000733Z
UID:3207-1638288000-1638293400@www.thesteadschool.org
SUMMARY:Boys Basketball Game vs. Colorado Academy
DESCRIPTION:1st Boys Basketball game of the season at Colorado Academy
URL:https://www.thesteadschool.org/event/boys-basketball-game-vs-colorado-academy/
LOCATION:CO
END:VEVENT
BEGIN:VEVENT
DTSTART;TZID=America/Denver:20211130T153000
DTEND;TZID=America/Denver:20211130T170000
DTSTAMP:20260419T132112
CREATED:20211130T213606Z
LAST-MODIFIED:20211130T213606Z
UID:3239-1638286200-1638291600@www.thesteadschool.org
SUMMARY:Girls Basketball Practice - Bison Ridge Rec Center
DESCRIPTION:
URL:https://www.thesteadschool.org/event/girls-basketball-practice-bison-ridge-rec-center-2/
LOCATION:CO
END:VEVENT
BEGIN:VEVENT
DTSTART;TZID=America/Denver:20211129T153000
DTEND;TZID=America/Denver:20211129T170000
DTSTAMP:20260419T132112
CREATED:20211130T213455Z
LAST-MODIFIED:20211130T213455Z
UID:3237-1638199800-1638205200@www.thesteadschool.org
SUMMARY:Girls Basketball Practice - Bison Ridge Rec Center
DESCRIPTION:
URL:https://www.thesteadschool.org/event/girls-basketball-practice-bison-ridge-rec-center/
LOCATION:CO
END:VEVENT
BEGIN:VEVENT
DTSTART;TZID=America/Denver:20211129T060000
DTEND;TZID=America/Denver:20211129T073000
DTSTAMP:20260419T132112
CREATED:20211119T175316Z
LAST-MODIFIED:20211119T175316Z
UID:3217-1638165600-1638171000@www.thesteadschool.org
SUMMARY:Boys Basketball Practice - Reunion Rec Center
DESCRIPTION:
URL:https://www.thesteadschool.org/event/boys-basketball-practice-reunion-rec-center/2021-11-29/
LOCATION:CO
END:VEVENT
BEGIN:VEVENT
DTSTART;VALUE=DATE:20211122
DTEND;VALUE=DATE:20211127
DTSTAMP:20260419T132112
CREATED:20210407T162136Z
LAST-MODIFIED:20210407T162136Z
UID:2422-1637539200-1637971199@www.thesteadschool.org
SUMMARY:Thanksgiving Week-no school
DESCRIPTION:
URL:https://www.thesteadschool.org/event/thanksgiving-week-no-school/
LOCATION:CO
END:VEVENT
BEGIN:VEVENT
DTSTART;TZID=America/Denver:20211117T160000
DTEND;TZID=America/Denver:20211117T200000
DTSTAMP:20260419T132112
CREATED:20211005T163351Z
LAST-MODIFIED:20211005T163514Z
UID:3107-1637164800-1637179200@www.thesteadschool.org
SUMMARY:Student Led Conferences
DESCRIPTION:Join us for these incredible ways that students demonstrate ownership for their learning!  More details to come…
URL:https://www.thesteadschool.org/event/student-led-conferences/2021-11-17/
LOCATION:CO
END:VEVENT
BEGIN:VEVENT
DTSTART;TZID=America/Denver:20211029T080000
DTEND;TZID=America/Denver:20211029T170000
DTSTAMP:20260419T132112
CREATED:20211025T163613Z
LAST-MODIFIED:20211025T163613Z
UID:3169-1635494400-1635526800@www.thesteadschool.org
SUMMARY:Fall Fair Fundraiser
DESCRIPTION:Family and friends are invited to STEAD for a night of games\, food and fun! All Proceeds go directly to the student’s first dance and future events. Hope to see you there!\n\nHallows Eve Fall Fair Flyer 2021
URL:https://www.thesteadschool.org/event/fall-fair-fundraiser/
LOCATION:The STEAD School\, 18251 Homestead Trail\, Commerce City\, CO\, 80022\, United States
END:VEVENT
BEGIN:VEVENT
DTSTART;TZID=America/Denver:20211019T180000
DTEND;TZID=America/Denver:20211019T200000
DTSTAMP:20260419T132112
CREATED:20211005T163106Z
LAST-MODIFIED:20211014T171102Z
UID:3100-1634666400-1634673600@www.thesteadschool.org
SUMMARY:Exhibition Night (Required Attendance for students...parents strongly encouraged!)
DESCRIPTION:Please join us for this important Exhibition Night. This is where our students are planning to showcase for you what this “STEADucation” is all about. It will be a great celebration and a culmination of the work we’ve been doing during this current project block. While parents/families are highly encouraged to come\, it is REQUIRED for students to attend all exhibition nights\, as this is where we showcase our final projects at the end of each project block.\n\nIt will be a night to remember! Please put it on the calendar.
URL:https://www.thesteadschool.org/event/exhibition-night-required-attendance-for-students-parents-strongly-encouraged/2021-10-19/
LOCATION:The STEAD School\, 18251 Homestead Trail\, Commerce City\, CO\, 80022\, United States
END:VEVENT
BEGIN:VEVENT
DTSTART;VALUE=DATE:20211018
DTEND;VALUE=DATE:20211023
DTSTAMP:20260419T132112
CREATED:20210407T140752Z
LAST-MODIFIED:20210407T140752Z
UID:2213-1634515200-1634947199@www.thesteadschool.org
SUMMARY:Acceleration Week
DESCRIPTION:
URL:https://www.thesteadschool.org/event/acceleration-week/
LOCATION:CO
END:VEVENT
BEGIN:VEVENT
DTSTART;TZID=America/Denver:20211013T111500
DTEND;TZID=America/Denver:20211013T153000
DTSTAMP:20260419T132112
CREATED:20211005T162337Z
LAST-MODIFIED:20211005T162337Z
UID:3091-1634123700-1634139000@www.thesteadschool.org
SUMMARY:Early Dismissal (11:15am) for staff PD
DESCRIPTION:
URL:https://www.thesteadschool.org/event/early-dismissal-1115am-for-staff-pd/2021-10-13/
LOCATION:CO
END:VEVENT
BEGIN:VEVENT
DTSTART;VALUE=DATE:20211008
DTEND;VALUE=DATE:20211009
DTSTAMP:20260419T132112
CREATED:20211005T162057Z
LAST-MODIFIED:20211005T162057Z
UID:3089-1633651200-1633737599@www.thesteadschool.org
SUMMARY:No School--Teacher in service day for the move!
DESCRIPTION:
URL:https://www.thesteadschool.org/event/no-school-teacher-in-service-day-for-the-move/
LOCATION:CO
END:VEVENT
BEGIN:VEVENT
DTSTART;VALUE=DATE:20210907
DTEND;VALUE=DATE:20210908
DTSTAMP:20260419T132112
CREATED:20210407T135359Z
LAST-MODIFIED:20210407T135359Z
UID:2177-1630972800-1631059199@www.thesteadschool.org
SUMMARY:First Day in the building! (1/2 day)
DESCRIPTION:
URL:https://www.thesteadschool.org/event/first-day-in-the-building-1-2-day/
LOCATION:CO
END:VEVENT
BEGIN:VEVENT
DTSTART;VALUE=DATE:20210906
DTEND;VALUE=DATE:20210907
DTSTAMP:20260419T132112
CREATED:20210407T135242Z
LAST-MODIFIED:20210407T135242Z
UID:2174-1630886400-1630972799@www.thesteadschool.org
SUMMARY:Labor Day--no school
DESCRIPTION:
URL:https://www.thesteadschool.org/event/labor-day-no-school/
LOCATION:CO
END:VEVENT
BEGIN:VEVENT
DTSTART;VALUE=DATE:20210903
DTEND;VALUE=DATE:20210904
DTSTAMP:20260419T132112
CREATED:20210407T154215Z
LAST-MODIFIED:20210407T154215Z
UID:2357-1630627200-1630713599@www.thesteadschool.org
SUMMARY:No school
DESCRIPTION:
URL:https://www.thesteadschool.org/event/no-school/
LOCATION:CO
END:VEVENT
BEGIN:VEVENT
DTSTART;VALUE=DATE:20210830
DTEND;VALUE=DATE:20210903
DTSTAMP:20260419T132112
CREATED:20210407T134913Z
LAST-MODIFIED:20210407T134913Z
UID:2172-1630281600-1630627199@www.thesteadschool.org
SUMMARY:Founder's Week
DESCRIPTION:This week is still being planned. More details to come…
URL:https://www.thesteadschool.org/event/founders-week/
LOCATION:CO
END:VEVENT
BEGIN:VEVENT
DTSTART;TZID=America/Denver:20210816T180000
DTEND;TZID=America/Denver:20210816T193000
DTSTAMP:20260419T132112
CREATED:20210727T145454Z
LAST-MODIFIED:20210727T145454Z
UID:2864-1629136800-1629142200@www.thesteadschool.org
SUMMARY:Mandatory Parent/Student Meeting for Founder Kickoff/Immersion Week
DESCRIPTION:Please RSVP in order to get the zoom link.
URL:https://www.thesteadschool.org/event/mandatory-parent-student-meeting-for-founder-kickoff-immersion-week/
LOCATION:CO
END:VEVENT
END:VCALENDAR