BEGIN:VCALENDAR
VERSION:2.0
PRODID:-//The STEAD School - ECPv6.15.20//NONSGML v1.0//EN
CALSCALE:GREGORIAN
METHOD:PUBLISH
X-WR-CALNAME:The STEAD School
X-ORIGINAL-URL:https://www.thesteadschool.org
X-WR-CALDESC:Events for The STEAD School
REFRESH-INTERVAL;VALUE=DURATION:PT1H
X-Robots-Tag:noindex
X-PUBLISHED-TTL:PT1H
BEGIN:VTIMEZONE
TZID:America/Denver
BEGIN:DAYLIGHT
TZOFFSETFROM:-0700
TZOFFSETTO:-0600
TZNAME:MDT
DTSTART:20190310T090000
END:DAYLIGHT
BEGIN:STANDARD
TZOFFSETFROM:-0600
TZOFFSETTO:-0700
TZNAME:MST
DTSTART:20191103T080000
END:STANDARD
BEGIN:DAYLIGHT
TZOFFSETFROM:-0700
TZOFFSETTO:-0600
TZNAME:MDT
DTSTART:20200308T090000
END:DAYLIGHT
BEGIN:STANDARD
TZOFFSETFROM:-0600
TZOFFSETTO:-0700
TZNAME:MST
DTSTART:20201101T080000
END:STANDARD
BEGIN:DAYLIGHT
TZOFFSETFROM:-0700
TZOFFSETTO:-0600
TZNAME:MDT
DTSTART:20210314T090000
END:DAYLIGHT
BEGIN:STANDARD
TZOFFSETFROM:-0600
TZOFFSETTO:-0700
TZNAME:MST
DTSTART:20211107T080000
END:STANDARD
BEGIN:DAYLIGHT
TZOFFSETFROM:-0700
TZOFFSETTO:-0600
TZNAME:MDT
DTSTART:20220313T090000
END:DAYLIGHT
BEGIN:STANDARD
TZOFFSETFROM:-0600
TZOFFSETTO:-0700
TZNAME:MST
DTSTART:20221106T080000
END:STANDARD
END:VTIMEZONE
BEGIN:VEVENT
DTSTART;TZID=America/Denver:20210315T190000
DTEND;TZID=America/Denver:20210315T200000
DTSTAMP:20260419T113529
CREATED:20210311T204440Z
LAST-MODIFIED:20210311T204440Z
UID:2058-1615834800-1615838400@www.thesteadschool.org
SUMMARY:STEAD 303 Info Session
DESCRIPTION:This session is intended for those who have enrolled and accepted a spot in the school as a way to answer specific questions and further explore the realities of a day-in-the-life of a STEAD student. \nInterested? Sign up here!
URL:https://www.thesteadschool.org/event/stead-303-info-session/2021-03-15/
LOCATION:CO
CATEGORIES:Info Sessions
END:VEVENT
BEGIN:VEVENT
DTSTART;TZID=America/Denver:20210304T190000
DTEND;TZID=America/Denver:20210304T200000
DTSTAMP:20260419T113529
CREATED:20201209T160513Z
LAST-MODIFIED:20210309T004438Z
UID:1591-1614884400-1614888000@www.thesteadschool.org
SUMMARY:Founding Families Meeting via Zoom
DESCRIPTION:  \nCome join other STEAD founding families as we talk about the exciting updates about the STEAD school and talk about the variety of ways to be involved.
URL:https://www.thesteadschool.org/event/stead-303-2021-03-04/2021-03-04/
LOCATION:CO
END:VEVENT
BEGIN:VEVENT
DTSTART;TZID=America/Denver:20210228T163000
DTEND;TZID=America/Denver:20210228T164500
DTSTAMP:20260419T113529
CREATED:20210224T174545Z
LAST-MODIFIED:20210224T174545Z
UID:1953-1614529800-1614530700@www.thesteadschool.org
SUMMARY:STEAD Lottery for incoming 9th grade class!
DESCRIPTION:Topic: STEAD Lottery\nTime: Feb 28\, 2021 04:30 PM Mountain Time (US and Canada) \nJoin Zoom Meeting\nhttps://zoom.us/j/93152269816?pwd=djI3QzBjcXNZUUdZT083K2dTRzZpdz09 \nMeeting ID: 931 5226 9816\nPasscode: 941862\nOne tap mobile\n+16699009128\,\,93152269816#\,\,\,\,*941862# US (San Jose)\n+12532158782\,\,93152269816#\,\,\,\,*941862# US (Tacoma)
URL:https://www.thesteadschool.org/event/stead-lottery-for-incoming-9th-grade-class/
LOCATION:CO
END:VEVENT
BEGIN:VEVENT
DTSTART;TZID=America/Denver:20210215T190000
DTEND;TZID=America/Denver:20210215T200000
DTSTAMP:20260419T113529
CREATED:20201121T200504Z
LAST-MODIFIED:20201121T200504Z
UID:1278-1613415600-1613419200@www.thesteadschool.org
SUMMARY:Information Session (English)
DESCRIPTION:The STEAD school will be hosting informational and enrollment orientation sessions every first and third Monday nights through February.   This is your chance to come hear more\, bring a friend who wants to learn about STEAD\, and find out the next steps toward enrollment.   Kevin Denton\, our Founding Principal\, will present about who we are\, what to do next and leave plenty of time for your questions. So much excitement is building for this new high school and we want folks to have as much accurate information as possible as the year goes along. \nRegister using the link below.  Meeting detail will be provided after registrations. Thank you and we can’t wait to meet you! \nREGISTER HERE
URL:https://www.thesteadschool.org/event/information-session-english-2/
LOCATION:CO
CATEGORIES:Info Sessions
ATTACH;FMTTYPE=image/jpeg:https://www.thesteadschool.org/wp-content/uploads/Info-Session-scaled.jpg
END:VEVENT
BEGIN:VEVENT
DTSTART;TZID=America/Denver:20210208T190000
DTEND;TZID=America/Denver:20210208T200000
DTSTAMP:20260419T113529
CREATED:20201121T204205Z
LAST-MODIFIED:20201121T204205Z
UID:1289-1612810800-1612814400@www.thesteadschool.org
SUMMARY:STEAD 202 Info Session
DESCRIPTION:STEAD 202 are sessions designed for those who have already attended a regular session and want to go deeper into the details on things like the schedule\, curriculum\, and other nitty gritty details\, as well as ample time for specific questions. These 202 sessions are NOT required as part of the enrollment process. Register using the link below.  Meeting detail will be provided after registrations. Thank you and we cannot wait to continue the conversation. \nREGISTER HERE
URL:https://www.thesteadschool.org/event/stead-202-info-session-2/
LOCATION:CO
CATEGORIES:Info Sessions
ATTACH;FMTTYPE=image/jpeg:https://www.thesteadschool.org/wp-content/uploads/Info-Session-scaled.jpg
END:VEVENT
BEGIN:VEVENT
DTSTART;TZID=America/Denver:20210208T080000
DTEND;TZID=America/Denver:20210208T120000
DTSTAMP:20260419T113529
CREATED:20210126T030115Z
LAST-MODIFIED:20210126T030152Z
UID:1881-1612771200-1612785600@www.thesteadschool.org
SUMMARY:Free Coffee--a STEAD outreach event
DESCRIPTION:Have you heard about The STEAD School?  If you haven’t\, come on over to the Reunion Coffee House and Founding Family Amy Flora will be there with flyers and gifts to share more about it and why her family is so excited about it. \nCoffee drinks are “on her” while supplies last! \nAlready know about The STEAD School?  Share this opportunity with your contacts! \n 
URL:https://www.thesteadschool.org/event/free-coffee-a-stead-outreach-event/
LOCATION:CO
END:VEVENT
BEGIN:VEVENT
DTSTART;TZID=America/Denver:20210203T170000
DTEND;TZID=America/Denver:20210203T180000
DTSTAMP:20260419T113529
CREATED:20210203T153841Z
LAST-MODIFIED:20210203T153939Z
UID:1929-1612371600-1612375200@www.thesteadschool.org
SUMMARY:Founding Student Meeting (last one before open enrollment ends)!
DESCRIPTION:Tonight is our last Founding Student meeting before open enrollment ends–so get in your hours and join us for some great topics!  See Zoom link next to “website” on the side!
URL:https://www.thesteadschool.org/event/founding-student-meeting-last-one-before-open-enrollment-ends/
LOCATION:CO
END:VEVENT
BEGIN:VEVENT
DTSTART;TZID=America/Denver:20210203T113000
DTEND;TZID=America/Denver:20210203T133000
DTSTAMP:20260419T113529
CREATED:20210202T171709Z
LAST-MODIFIED:20210202T171709Z
UID:1924-1612351800-1612359000@www.thesteadschool.org
SUMMARY:FREE Haircuts for STEAD!
DESCRIPTION:One of our Founding Families for The STEAD School (Sara Ramus)\, who also happens to own the Ramus Studio Salon in Denver along with one of her licensed hair stylists (Danielle Reis)\, has offered to provide anyone in the community with a FREE Haircut as her family helps get the word out about this new\, incredible\, innovative\, public charter school opening in Fall of 2021!\n\nThe “Nitty Gritty” details:\n\nLocation: Reunion Coffee House Conference Room (10601 Reunion Pkwy\, Commerce City\, CO 80022)\nFirst come-First Serve (men’s/boy’s haircuts take about 15-20 minutes\, women’s/girl’s haircuts take about 20-30 minutes).\nCome with clean & dry hair (no products please)\nMask and COVID screening required\nGrab a coffee while you wait or take a walk around the lake!
URL:https://www.thesteadschool.org/event/free-haircuts-for-stead/2021-02-03/
LOCATION:Reunion Coffee House\, 10601 Reunion Pkwy\, Commerce City\, CO\, 80022\, United States
END:VEVENT
BEGIN:VEVENT
DTSTART;TZID=America/Denver:20210201T200000
DTEND;TZID=America/Denver:20210201T213000
DTSTAMP:20260419T113529
CREATED:20201121T200346Z
LAST-MODIFIED:20210202T020043Z
UID:1276-1612209600-1612215000@www.thesteadschool.org
SUMMARY:Information Session (En español)
DESCRIPTION:The STEAD school will be hosting its last information night in Spanish before the open enrollment window closes.    This is your chance to come hear more\, bring a friend who wants to learn about STEAD\, and find out the next steps toward enrollment.   There will be a presentation about who we are\, what to do next and leave plenty of time for your questions. So much excitement is building for this new high school and we want folks to have as much accurate information as possible as the year goes along.  This session will be hosted in Spanish. \nRegister using the link below to mark attendance\, but join us on Facebook live:  .  Meeting detail will be provided after registrations. Thank you and we can’t wait to meet you! \nhttps://www.facebook.com/thesteadschool \nREGISTER HERE
URL:https://www.thesteadschool.org/event/information-session-spanish-4/
LOCATION:CO
CATEGORIES:Info Sessions
ATTACH;FMTTYPE=image/jpeg:https://www.thesteadschool.org/wp-content/uploads/Info-Session-scaled.jpg
END:VEVENT
BEGIN:VEVENT
DTSTART;TZID=America/Denver:20210201T190000
DTEND;TZID=America/Denver:20210201T200000
DTSTAMP:20260419T113529
CREATED:20201121T200035Z
LAST-MODIFIED:20201121T200647Z
UID:1274-1612206000-1612209600@www.thesteadschool.org
SUMMARY:Information Session (English)
DESCRIPTION:The STEAD school will be hosting informational and enrollment orientation sessions every first and third Monday nights through February.   This is your chance to come hear more\, bring a friend who wants to learn about STEAD\, and find out the next steps toward enrollment.   Kevin Denton\, our Founding Principal\, will present about who we are\, what to do next and leave plenty of time for your questions. So much excitement is building for this new high school and we want folks to have as much accurate information as possible as the year goes along. \nRegister using the link below.  Meeting detail will be provided after registrations. Thank you and we can’t wait to meet you! \nREGISTER HERE
URL:https://www.thesteadschool.org/event/information-session-4/
LOCATION:CO
CATEGORIES:Info Sessions
ATTACH;FMTTYPE=image/jpeg:https://www.thesteadschool.org/wp-content/uploads/Info-Session-scaled.jpg
END:VEVENT
BEGIN:VEVENT
DTSTART;TZID=America/Denver:20210125T190000
DTEND;TZID=America/Denver:20210125T200000
DTSTAMP:20260419T113529
CREATED:20201121T203935Z
LAST-MODIFIED:20201121T204018Z
UID:1287-1611601200-1611604800@www.thesteadschool.org
SUMMARY:STEAD 202 Info Session
DESCRIPTION:STEAD 202 are sessions designed for those who have already attended a regular session and want to go deeper into the details on things like the schedule\, curriculum\, and other nitty gritty details\, as well as ample time for specific questions. These 202 sessions are NOT required as part of the enrollment process. Register using the link below.  Meeting detail will be provided after registrations. Thank you and we cannot wait to continue the conversation. \nREGISTER HERE
URL:https://www.thesteadschool.org/event/stead-202-info-session/
LOCATION:CO
CATEGORIES:Info Sessions
ATTACH;FMTTYPE=image/jpeg:https://www.thesteadschool.org/wp-content/uploads/Info-Session-scaled.jpg
END:VEVENT
BEGIN:VEVENT
DTSTART;TZID=America/Denver:20210120T220000
DTEND;TZID=America/Denver:20210120T220100
DTSTAMP:20260419T113529
CREATED:20210105T171907Z
LAST-MODIFIED:20210105T171951Z
UID:1753-1611180000-1611180060@www.thesteadschool.org
SUMMARY:Scavenger Hunt Ends
DESCRIPTION:Don’t worry\, we may do one again! More fun times ahead!
URL:https://www.thesteadschool.org/event/scavenger-hunt-ends/
LOCATION:CO
END:VEVENT
BEGIN:VEVENT
DTSTART;TZID=America/Denver:20210118T190000
DTEND;TZID=America/Denver:20210118T200000
DTSTAMP:20260419T113529
CREATED:20201121T195937Z
LAST-MODIFIED:20201121T195937Z
UID:1272-1610996400-1611000000@www.thesteadschool.org
SUMMARY:Information Session
DESCRIPTION:The STEAD school will be hosting informational and enrollment orientation sessions every first and third Monday nights through February.   This is your chance to come hear more\, bring a friend who wants to learn about STEAD\, and find out the next steps toward enrollment.   Kevin Denton\, our Founding Principal\, will present about who we are\, what to do next and leave plenty of time for your questions. So much excitement is building for this new high school and we want folks to have as much accurate information as possible as the year goes along. \nRegister using the link below.  Meeting detail will be provided after registrations. Thank you and we can’t wait to meet you! \nREGISTER HERE
URL:https://www.thesteadschool.org/event/information-session-3/
LOCATION:CO
CATEGORIES:Info Sessions
ATTACH;FMTTYPE=image/jpeg:https://www.thesteadschool.org/wp-content/uploads/Info-Session-scaled.jpg
END:VEVENT
BEGIN:VEVENT
DTSTART;TZID=America/Denver:20210116T130000
DTEND;TZID=America/Denver:20210116T150000
DTSTAMP:20260419T113529
CREATED:20210105T171550Z
LAST-MODIFIED:20210105T171709Z
UID:1748-1610802000-1610809200@www.thesteadschool.org
SUMMARY:Scavenger Hunt SWAG Grab
DESCRIPTION:Find the STEAD booth at Riverdale Regional Park anytime between 1-3pm. \nFor more info on the Scavenger Hunt click on the event link in our calendar.
URL:https://www.thesteadschool.org/event/scavenger-hunt-swag-grab/
LOCATION:Riverdale Regional Park\, 9755 Henderson Rd\,\, Brighton\, CO\, 80601\, United States
END:VEVENT
BEGIN:VEVENT
DTSTART;TZID=America/Denver:20210114T180000
DTEND;TZID=America/Denver:20210114T204500
DTSTAMP:20260419T113529
CREATED:20210105T161752Z
LAST-MODIFIED:20210113T165053Z
UID:1740-1610647200-1610657100@www.thesteadschool.org
SUMMARY:Founding Family Phone Banking
DESCRIPTION:Help us get the word out about the STEAD school! \nInterested in helping? Please email ldenton@thesteadschool.org
URL:https://www.thesteadschool.org/event/founding-family-phone-banking/2021-01-14/
LOCATION:CO
END:VEVENT
BEGIN:VEVENT
DTSTART;TZID=America/Denver:20210111T190000
DTEND;TZID=America/Denver:20210111T200000
DTSTAMP:20260419T113529
CREATED:20201121T203211Z
LAST-MODIFIED:20201121T203313Z
UID:1285-1610391600-1610395200@www.thesteadschool.org
SUMMARY:STEAD 202 Session
DESCRIPTION:STEAD 202 are sessions designed for those who have already attended a regular session and want to go deeper into the details on things like the schedule\, curriculum\, and other nitty gritty details\, as well as ample time for specific questions. These 202 sessions are NOT required as part of the enrollment process. Register using the link below.  Meeting detail will be provided after registrations. Thank you and we cannot wait to continue the conversation. \nREGISTER HERE
URL:https://www.thesteadschool.org/event/stead-202-session-3/
LOCATION:CO
CATEGORIES:Info Sessions
ATTACH;FMTTYPE=image/jpeg:https://www.thesteadschool.org/wp-content/uploads/Info-Session-scaled.jpg
END:VEVENT
BEGIN:VEVENT
DTSTART;TZID=America/Denver:20210111T180000
DTEND;TZID=America/Denver:20210111T200000
DTSTAMP:20260419T113529
CREATED:20201120T191832Z
LAST-MODIFIED:20210105T221109Z
UID:1233-1610388000-1610395200@www.thesteadschool.org
SUMMARY:Board Meeting
DESCRIPTION:The STEAD School Board Meeting \nMeetings are held from 6:00-8:00pm. Due to City and State Guidelines for COVID-19\, meetings are being held via telephone. \nPublic is welcome! Please call\, 515-604-9331 access code 811769 to join.
URL:https://www.thesteadschool.org/event/board-meeting-2021-01-04/
LOCATION:CO
ATTACH;FMTTYPE=image/jpeg:https://www.thesteadschool.org/wp-content/uploads/AdobeStock_361813958-scaled.jpeg
END:VEVENT
BEGIN:VEVENT
DTSTART;TZID=America/Denver:20210104T190000
DTEND;TZID=America/Denver:20210104T210000
DTSTAMP:20260419T113529
CREATED:20201121T195723Z
LAST-MODIFIED:20210105T015524Z
UID:1268-1609786800-1609794000@www.thesteadschool.org
SUMMARY:Information Session (Spanish)
DESCRIPTION:The STEAD school will be hosting informational and enrollment orientation sessions every first and third Monday nights through February.   This is your chance to come hear more\, bring a friend who wants to learn about STEAD\, and find out the next steps toward enrollment.   Kevin Denton\, our Founding Principal\, will present about who we are\, what to do next and leave plenty of time for your questions. So much excitement is building for this new high school and we want folks to have as much accurate information as possible as the year goes along.  This session will be hosted in Spanish. \nRegister using the link below.  Meeting detail will be provided after registrations. Thank you and we can’t wait to meet you! \nREGISTER HERE
URL:https://www.thesteadschool.org/event/information-session-spanish-2/
LOCATION:CO
CATEGORIES:Info Sessions
ATTACH;FMTTYPE=image/jpeg:https://www.thesteadschool.org/wp-content/uploads/Info-Session-scaled.jpg
END:VEVENT
BEGIN:VEVENT
DTSTART;TZID=America/Denver:20210104T190000
DTEND;TZID=America/Denver:20210104T200000
DTSTAMP:20260419T113529
CREATED:20201121T195622Z
LAST-MODIFIED:20201121T195622Z
UID:1266-1609786800-1609790400@www.thesteadschool.org
SUMMARY:Information Session (English)
DESCRIPTION:The STEAD school will be hosting informational and enrollment orientation sessions every first and third Monday nights through February.   This is your chance to come hear more\, bring a friend who wants to learn about STEAD\, and find out the next steps toward enrollment.   Kevin Denton\, our Founding Principal\, will present about who we are\, what to do next and leave plenty of time for your questions. So much excitement is building for this new high school and we want folks to have as much accurate information as possible as the year goes along. \nRegister using the link below.  Meeting detail will be provided after registrations. Thank you and we can’t wait to meet you! \nREGISTER HERE
URL:https://www.thesteadschool.org/event/information-session-english/
LOCATION:CO
CATEGORIES:Info Sessions
ATTACH;FMTTYPE=image/jpeg:https://www.thesteadschool.org/wp-content/uploads/Info-Session-scaled.jpg
END:VEVENT
BEGIN:VEVENT
DTSTART;TZID=America/Denver:20201221T190000
DTEND;TZID=America/Denver:20201221T200000
DTSTAMP:20260419T113529
CREATED:20201121T195505Z
LAST-MODIFIED:20201121T195505Z
UID:1264-1608577200-1608580800@www.thesteadschool.org
SUMMARY:Information Session
DESCRIPTION:The STEAD school will be hosting informational and enrollment orientation sessions every first and third Monday nights through February.   This is your chance to come hear more\, bring a friend who wants to learn about STEAD\, and find out the next steps toward enrollment.   Kevin Denton\, our Founding Principal\, will present about who we are\, what to do next and leave plenty of time for your questions. So much excitement is building for this new high school and we want folks to have as much accurate information as possible as the year goes along. \nRegister using the link below.  Meeting detail will be provided after registrations. Thank you and we can’t wait to meet you! \nREGISTER HERE
URL:https://www.thesteadschool.org/event/information-session-2/
LOCATION:CO
CATEGORIES:Info Sessions
ATTACH;FMTTYPE=image/jpeg:https://www.thesteadschool.org/wp-content/uploads/Info-Session-scaled.jpg
END:VEVENT
BEGIN:VEVENT
DTSTART;VALUE=DATE:20201219
DTEND;VALUE=DATE:20201220
DTSTAMP:20260419T113529
CREATED:20201130T163920Z
LAST-MODIFIED:20201209T154303Z
UID:1389-1608336000-1608422399@www.thesteadschool.org
SUMMARY:Brighton Parade Of Lights--come see the STEAD float! Time TBD
DESCRIPTION:We will be entering a float into the festival of lights parade in Brighton (this year the parade looks a little different in that the floats will be parked for drive by viewing)!! We are hoping for a student led team that will design and help build the float before participating in the parade. We are also in need of the following items:\n\n\nPickup\nTrailer\nGenerators\nChristmas Lights (lots and lots of lights)\n\nPlease email Ava Coy: ava.norman@gmail.com if you have any of the items that can be used for the float and/or  any interest in helping to make it a reality.\n\n\nFor more information on the parade\, please visit:\n\nhttps://www.brightonco.gov/459/Festival-of-Lights
URL:https://www.thesteadschool.org/event/brighton-parade-of-lights-come-see-the-stead-float/
LOCATION:CO
END:VEVENT
BEGIN:VEVENT
DTSTART;TZID=America/Denver:20201218T140000
DTEND;TZID=America/Denver:20201218T150000
DTSTAMP:20260419T113529
CREATED:20201209T154638Z
LAST-MODIFIED:20201209T154638Z
UID:1576-1608300000-1608303600@www.thesteadschool.org
SUMMARY:Float Decorating
DESCRIPTION:We will be entering a float into the festival of lights parade in Brighton!! We are hoping for a student led team that will design and help build the float before participating in the parade.\n\nCome join in the fun as we build a float together!\n\n\nPlease email Ava Coy: ava.norman@gmail.com if you have any questions.\n\n\nFor more information on the parade\, please visit:\n\nhttps://www.brightonco.gov/459/Festival-of-Lights
URL:https://www.thesteadschool.org/event/float-decorating/
LOCATION:Reunion Recreation Center
END:VEVENT
BEGIN:VEVENT
DTSTART;VALUE=DATE:20201218
DTEND;VALUE=DATE:20210121
DTSTAMP:20260419T113529
CREATED:20201217T171010Z
LAST-MODIFIED:20201217T171010Z
UID:1624-1608249600-1611187199@www.thesteadschool.org
SUMMARY:Free STEAD Community Scavenger Hunt!
DESCRIPTION:Are you ready for the hunt? The STEAD school is hosting a community-wide scavenger hunt including prizes!  See the info below and/or download the flyer for details.  Spread the word!\n\nScavenger Hunt Flyer (1)\n\nDownload the Goosechase app on your smartphone and enter game code M47G7R to join the Community Scavenger Hunt\, Sponsored by The STEAD School! There’s lots of adventure\, prizes\, and fun in store!\n \nThe STEAD School — You Belong Here! #theSTEADschool\n \nhttps://itunes.apple.com/us/app/goosechase/id437330879?mt=8\n \nhttps://play.google.com/store/apps/details?id=com.goosechaseadventures.goosechase&pcampaignid=GooseChase-Footer\n 
URL:https://www.thesteadschool.org/event/free-stead-community-scavenger-hunt/
LOCATION:CO
END:VEVENT
BEGIN:VEVENT
DTSTART;TZID=America/Denver:20201215T180000
DTEND;TZID=America/Denver:20201215T190000
DTSTAMP:20260419T113529
CREATED:20201121T202120Z
LAST-MODIFIED:20201121T202950Z
UID:1283-1608055200-1608058800@www.thesteadschool.org
SUMMARY:STEAD 202 Session
DESCRIPTION:STEAD 202 are sessions designed for those who have already attended a regular session and want to go deeper into the details on things like the schedule\, curriculum\, and other nitty gritty details\, as well as ample time for specific questions. These 202 sessions are NOT required as part of the enrollment process. Register using the link below.  Meeting detail will be provided after registrations. Thank you and we cannot wait to continue the conversation. \nREGISTER HERE
URL:https://www.thesteadschool.org/event/stead-202-session-2/
LOCATION:CO
CATEGORIES:Info Sessions
ATTACH;FMTTYPE=image/jpeg:https://www.thesteadschool.org/wp-content/uploads/Info-Session-scaled.jpg
END:VEVENT
BEGIN:VEVENT
DTSTART;TZID=America/Denver:20201211T120000
DTEND;TZID=America/Denver:20201211T130000
DTSTAMP:20260419T113529
CREATED:20201209T155558Z
LAST-MODIFIED:20201209T155656Z
UID:1579-1607688000-1607691600@www.thesteadschool.org
SUMMARY:Snowflake Deadline
DESCRIPTION:Turn in your snowflakes for the float to the address listed (Julie) by 12pm today!
URL:https://www.thesteadschool.org/event/snowflake-deadline/
LOCATION:17096 E 106th Ave\, Commerce City\, CO 80022\, USA
END:VEVENT
BEGIN:VEVENT
DTSTART;TZID=America/Denver:20201210T190000
DTEND;TZID=America/Denver:20201210T200000
DTSTAMP:20260419T113529
CREATED:20201209T160513Z
LAST-MODIFIED:20210309T004058Z
UID:1583-1607626800-1607630400@www.thesteadschool.org
SUMMARY:Founding Families Meeting via Zoom
DESCRIPTION:  \nCome join other STEAD founding families as we talk about the exciting updates about the STEAD school and talk about the variety of ways to be involved.
URL:https://www.thesteadschool.org/event/stead-303/2020-12-10/
LOCATION:CO
END:VEVENT
BEGIN:VEVENT
DTSTART;TZID=America/Denver:20201207T200000
DTEND;TZID=America/Denver:20201207T210000
DTSTAMP:20260419T113529
CREATED:20201121T195347Z
LAST-MODIFIED:20201121T195347Z
UID:1262-1607371200-1607374800@www.thesteadschool.org
SUMMARY:Information Session (Spanish)
DESCRIPTION:The STEAD school will be hosting informational and enrollment orientation sessions every first and third Monday nights through February.   This is your chance to come hear more\, bring a friend who wants to learn about STEAD\, and find out the next steps toward enrollment.   Kevin Denton\, our Founding Principal\, will present about who we are\, what to do next and leave plenty of time for your questions. So much excitement is building for this new high school and we want folks to have as much accurate information as possible as the year goes along.  This session will be hosted in Spanish. \nRegister using the link below.  Meeting detail will be provided after registrations. Thank you and we can’t wait to meet you! \nREGISTER HERE\n 
URL:https://www.thesteadschool.org/event/information-session-spanish/
LOCATION:CO
CATEGORIES:Info Sessions
ATTACH;FMTTYPE=image/jpeg:https://www.thesteadschool.org/wp-content/uploads/Info-Session-scaled.jpg
END:VEVENT
BEGIN:VEVENT
DTSTART;TZID=America/Denver:20201207T190000
DTEND;TZID=America/Denver:20201207T200000
DTSTAMP:20260419T113529
CREATED:20201121T195022Z
LAST-MODIFIED:20201121T195241Z
UID:1258-1607367600-1607371200@www.thesteadschool.org
SUMMARY:Information Session (English)
DESCRIPTION:The STEAD school will be hosting informational and enrollment orientation sessions every first and third Monday nights through February.   This is your chance to come hear more\, bring a friend who wants to learn about STEAD\, and find out the next steps toward enrollment.   Kevin Denton\, our Founding Principal\, will present about who we are\, what to do next and leave plenty of time for your questions. So much excitement is building for this new high school and we want folks to have as much accurate information as possible as the year goes along.  Additionally\, we have added some sessions in Spanish starting in December. \nRegister using the link below.  Meeting detail will be provided after registrations. Thank you and we can’t wait to meet you! \nREGISTER HERE\n 
URL:https://www.thesteadschool.org/event/information-session/
LOCATION:CO
ATTACH;FMTTYPE=image/jpeg:https://www.thesteadschool.org/wp-content/uploads/Info-Session-scaled.jpg
END:VEVENT
BEGIN:VEVENT
DTSTART;TZID=America/Denver:20201207T180000
DTEND;TZID=America/Denver:20201207T200000
DTSTAMP:20260419T113529
CREATED:20201120T191832Z
LAST-MODIFIED:20210624T153002Z
UID:1230-1607364000-1607371200@www.thesteadschool.org
SUMMARY:Board Meeting
DESCRIPTION:The STEAD School Board Meeting \nMeetings are held the first Monday of the month from 6:00-8:00pm. Due to City and State Guidelines for COVID-19\, meetings are being held via telephone. \nPublic is welcome! Please call\, 515-604-9331 access code 811769 to join.
URL:https://www.thesteadschool.org/event/board-meeting/2020-12-07/
LOCATION:CO
ATTACH;FMTTYPE=image/jpeg:https://www.thesteadschool.org/wp-content/uploads/AdobeStock_361813958-scaled.jpeg
END:VEVENT
BEGIN:VEVENT
DTSTART;TZID=America/Denver:20201201T000000
DTEND;TZID=America/Denver:20210215T235900
DTSTAMP:20260419T113529
CREATED:20201130T160330Z
LAST-MODIFIED:20201201T202139Z
UID:1383-1606780800-1613433540@www.thesteadschool.org
SUMMARY:Open Enrollment Window! 12/1 to 2/15
DESCRIPTION:‘Tis the Season! Open enrollment for the inaugural Freshman class at The STEAD School begins on December 1st! Interested? You should be! Visit www.thesteadschool.org/interested/ to learn what we’re all about and find out more about open enrollment. The STEAD School — You belong here! #theSTEADschool
URL:https://www.thesteadschool.org/event/open-enrollment-window-12-1-12am-2-15-1159pm/
LOCATION:CO
ATTACH;FMTTYPE=image/jpeg:https://www.thesteadschool.org/wp-content/uploads/STEAD-FB-cover.jpg
END:VEVENT
END:VCALENDAR