BEGIN:VCALENDAR
VERSION:2.0
PRODID:-//The STEAD School - ECPv6.15.20//NONSGML v1.0//EN
CALSCALE:GREGORIAN
METHOD:PUBLISH
X-WR-CALNAME:The STEAD School
X-ORIGINAL-URL:https://www.thesteadschool.org
X-WR-CALDESC:Events for The STEAD School
REFRESH-INTERVAL;VALUE=DURATION:PT1H
X-Robots-Tag:noindex
X-PUBLISHED-TTL:PT1H
BEGIN:VTIMEZONE
TZID:America/Denver
BEGIN:DAYLIGHT
TZOFFSETFROM:-0700
TZOFFSETTO:-0600
TZNAME:MDT
DTSTART:20210314T090000
END:DAYLIGHT
BEGIN:STANDARD
TZOFFSETFROM:-0600
TZOFFSETTO:-0700
TZNAME:MST
DTSTART:20211107T080000
END:STANDARD
BEGIN:DAYLIGHT
TZOFFSETFROM:-0700
TZOFFSETTO:-0600
TZNAME:MDT
DTSTART:20220313T090000
END:DAYLIGHT
BEGIN:STANDARD
TZOFFSETFROM:-0600
TZOFFSETTO:-0700
TZNAME:MST
DTSTART:20221106T080000
END:STANDARD
BEGIN:DAYLIGHT
TZOFFSETFROM:-0700
TZOFFSETTO:-0600
TZNAME:MDT
DTSTART:20230312T090000
END:DAYLIGHT
BEGIN:STANDARD
TZOFFSETFROM:-0600
TZOFFSETTO:-0700
TZNAME:MST
DTSTART:20231105T080000
END:STANDARD
END:VTIMEZONE
BEGIN:VEVENT
DTSTART;TZID=America/Denver:20220308T153000
DTEND;TZID=America/Denver:20220308T170000
DTSTAMP:20260419T165127
CREATED:20220304T184236Z
LAST-MODIFIED:20220304T184236Z
UID:3544-1646753400-1646758800@www.thesteadschool.org
SUMMARY:Girls Soccer Practice
DESCRIPTION:Practice is held on the fields at the Reunion Recreation Center
URL:https://www.thesteadschool.org/event/girls-soccer-practice-2/
LOCATION:Reunion Recreation Center
END:VEVENT
BEGIN:VEVENT
DTSTART;VALUE=DATE:20220314
DTEND;VALUE=DATE:20220319
DTSTAMP:20260419T165127
CREATED:20210407T142403Z
LAST-MODIFIED:20211005T163900Z
UID:2285-1647216000-1647647999@www.thesteadschool.org
SUMMARY:Acceleration Week
DESCRIPTION:
URL:https://www.thesteadschool.org/event/acceleration-week-3/
END:VEVENT
BEGIN:VEVENT
DTSTART;TZID=America/Denver:20220314T153000
DTEND;TZID=America/Denver:20220314T170000
DTSTAMP:20260419T165127
CREATED:20220209T203804Z
LAST-MODIFIED:20220314T191725Z
UID:3492-1647271800-1647277200@www.thesteadschool.org
SUMMARY:Girls Soccer Practice
DESCRIPTION:Practice is held on the fields at the Reunion Recreation Center
URL:https://www.thesteadschool.org/event/girls-soccer-practice-2022-03-14/
LOCATION:Reunion Recreation Center
END:VEVENT
BEGIN:VEVENT
DTSTART;VALUE=DATE:20220321
DTEND;VALUE=DATE:20220326
DTSTAMP:20260419T165127
CREATED:20210407T153703Z
LAST-MODIFIED:20210407T153703Z
UID:2321-1647820800-1648252799@www.thesteadschool.org
SUMMARY:Spring Break-no school
DESCRIPTION:
URL:https://www.thesteadschool.org/event/spring-break-no-school/
END:VEVENT
BEGIN:VEVENT
DTSTART;TZID=America/Denver:20220329T151500
DTEND;TZID=America/Denver:20220329T160000
DTSTAMP:20260419T165127
CREATED:20220314T180649Z
LAST-MODIFIED:20220314T181141Z
UID:3575-1648566900-1648569600@www.thesteadschool.org
SUMMARY:STEAD School Tour
DESCRIPTION:Want your students to experience the STEAD model with our guide staff for themselves? Parents are not required\, but welcome. These events will be offered LIVE ONLY. Please click the link below to sign up. \nSIGN UP HERE! \nIf this time does not work for you\, please call or email the school to schedule an alternative time.
URL:https://www.thesteadschool.org/event/stead-school-tour-14/2022-03-29/
LOCATION:The STEAD School\, 18251 Homestead Trail\, Commerce City\, CO\, 80022\, United States
END:VEVENT
BEGIN:VEVENT
DTSTART;TZID=America/Denver:20220330T163000
DTEND;TZID=America/Denver:20220330T180000
DTSTAMP:20260419T165127
CREATED:20220209T205631Z
LAST-MODIFIED:20220209T205631Z
UID:3525-1648657800-1648663200@www.thesteadschool.org
SUMMARY:Girls Soccer vs. Cherry Creek
DESCRIPTION:
URL:https://www.thesteadschool.org/event/girls-soccer-vs-cherry-creek/
LOCATION:Village Greens Park\, 9501 E Union Ave\, Greenwood Village\, CO\, 80111\, United States
END:VEVENT
END:VCALENDAR