BEGIN:VCALENDAR
VERSION:2.0
PRODID:-//The STEAD School - ECPv6.15.20//NONSGML v1.0//EN
CALSCALE:GREGORIAN
METHOD:PUBLISH
X-ORIGINAL-URL:https://www.thesteadschool.org
X-WR-CALDESC:Events for The STEAD School
REFRESH-INTERVAL;VALUE=DURATION:PT1H
X-Robots-Tag:noindex
X-PUBLISHED-TTL:PT1H
BEGIN:VTIMEZONE
TZID:America/Denver
BEGIN:DAYLIGHT
TZOFFSETFROM:-0700
TZOFFSETTO:-0600
TZNAME:MDT
DTSTART:20210314T090000
END:DAYLIGHT
BEGIN:STANDARD
TZOFFSETFROM:-0600
TZOFFSETTO:-0700
TZNAME:MST
DTSTART:20211107T080000
END:STANDARD
BEGIN:DAYLIGHT
TZOFFSETFROM:-0700
TZOFFSETTO:-0600
TZNAME:MDT
DTSTART:20220313T090000
END:DAYLIGHT
BEGIN:STANDARD
TZOFFSETFROM:-0600
TZOFFSETTO:-0700
TZNAME:MST
DTSTART:20221106T080000
END:STANDARD
BEGIN:DAYLIGHT
TZOFFSETFROM:-0700
TZOFFSETTO:-0600
TZNAME:MDT
DTSTART:20230312T090000
END:DAYLIGHT
BEGIN:STANDARD
TZOFFSETFROM:-0600
TZOFFSETTO:-0700
TZNAME:MST
DTSTART:20231105T080000
END:STANDARD
END:VTIMEZONE
BEGIN:VEVENT
DTSTART;TZID=America/Denver:20220401T190000
DTEND;TZID=America/Denver:20220401T213000
DTSTAMP:20260419T150210
CREATED:20220317T040311Z
LAST-MODIFIED:20220317T042449Z
UID:3613-1648839600-1648848600@www.thesteadschool.org
SUMMARY:Spring Fling Semi-Formal
DESCRIPTION:$15 Admission/$20 Non-STEAD Guest\nPermission slips need to be turned by Thursday before the dance. \nSpring Fling Student Permission Slip \nGuest Permission Slip
URL:https://www.thesteadschool.org/event/spring-fling-semi-formal/
END:VEVENT
BEGIN:VEVENT
DTSTART;TZID=America/Denver:20220404T180000
DTEND;TZID=America/Denver:20220404T200000
DTSTAMP:20260419T150210
CREATED:20220403T045030Z
LAST-MODIFIED:20220403T144040Z
UID:3639-1649095200-1649102400@www.thesteadschool.org
SUMMARY:Board Meeting
DESCRIPTION:The STEAD School Board Meeting – Now held in person at The STEAD School.
URL:https://www.thesteadschool.org/event/board-meeting-3/2022-04-04/
LOCATION:The STEAD School\, 18251 Homestead Trail\, Commerce City\, CO\, 80022\, United States
END:VEVENT
BEGIN:VEVENT
DTSTART;TZID=America/Denver:20220406T180000
DTEND;TZID=America/Denver:20220406T193000
DTSTAMP:20260419T150210
CREATED:20220314T181547Z
LAST-MODIFIED:20220314T181821Z
UID:3589-1649268000-1649273400@www.thesteadschool.org
SUMMARY:Student Night
DESCRIPTION:Join us for Student Night where students (and their parents if you’d like to come) will get to experience The STEAD model with our guide staff! Please click the link below to sign up. \nSIGN UP HERE!
URL:https://www.thesteadschool.org/event/student-night/
END:VEVENT
BEGIN:VEVENT
DTSTART;TZID=America/Denver:20220412T170000
DTEND;TZID=America/Denver:20220412T180000
DTSTAMP:20260419T150210
CREATED:20220410T194827Z
LAST-MODIFIED:20220410T200031Z
UID:3679-1649782800-1649786400@www.thesteadschool.org
SUMMARY:Spring Cultivate Meeting
DESCRIPTION:Please join us at The STEAD Spring Cultivate Meeting on Tuesday\, April 12th from 5-6pm @The STEAD School where we will share overall school updates and information.
URL:https://www.thesteadschool.org/event/spring-cultivate-meeting/
LOCATION:The STEAD School\, 18251 Homestead Trail\, Commerce City\, CO\, 80022\, United States
END:VEVENT
BEGIN:VEVENT
DTSTART;TZID=America/Denver:20220413T083000
DTEND;TZID=America/Denver:20220413T093000
DTSTAMP:20260419T150210
CREATED:20220314T182233Z
LAST-MODIFIED:20220329T192343Z
UID:3591-1649838600-1649842200@www.thesteadschool.org
SUMMARY:Coffee with Kevin
DESCRIPTION:SIGN UP HERE! \n 
URL:https://www.thesteadschool.org/event/coffee-with-kevin/
LOCATION:The STEAD School\, 18251 Homestead Trail\, Commerce City\, CO\, 80022\, United States
END:VEVENT
BEGIN:VEVENT
DTSTART;TZID=America/Denver:20220413T163000
DTEND;TZID=America/Denver:20220413T180000
DTSTAMP:20260419T150210
CREATED:20220404T200148Z
LAST-MODIFIED:20220404T200148Z
UID:3675-1649867400-1649872800@www.thesteadschool.org
SUMMARY:Girls Soccer Game vs. Cherry Creek
DESCRIPTION:
URL:https://www.thesteadschool.org/event/girls-soccer-game-vs-cherry-creek/
LOCATION:Village Greens Park\, 9501 E Union Ave\, Greenwood Village\, CO\, 80111\, United States
END:VEVENT
BEGIN:VEVENT
DTSTART;VALUE=DATE:20220414
DTEND;VALUE=DATE:20220415
DTSTAMP:20260419T150210
CREATED:20210929T195932Z
LAST-MODIFIED:20210929T195932Z
UID:3071-1649894400-1649980799@www.thesteadschool.org
SUMMARY:PSAT9
DESCRIPTION:
URL:https://www.thesteadschool.org/event/psat9/
END:VEVENT
BEGIN:VEVENT
DTSTART;TZID=America/Denver:20220414T180000
DTEND;TZID=America/Denver:20220414T200000
DTSTAMP:20260419T150210
CREATED:20220317T042621Z
LAST-MODIFIED:20220317T042627Z
UID:3616-1649959200-1649966400@www.thesteadschool.org
SUMMARY:SAC Meeting
DESCRIPTION:SAC = School Accountability Meeting
URL:https://www.thesteadschool.org/event/sac-meeting/
LOCATION:The STEAD School\, 18251 Homestead Trail\, Commerce City\, CO\, 80022\, United States
END:VEVENT
BEGIN:VEVENT
DTSTART;TZID=America/Denver:20220420T163000
DTEND;TZID=America/Denver:20220420T180000
DTSTAMP:20260419T150210
CREATED:20220404T195939Z
LAST-MODIFIED:20220404T195939Z
UID:3672-1650472200-1650477600@www.thesteadschool.org
SUMMARY:Girls Soccer Game vs. Ellicott Sr. High School
DESCRIPTION:
URL:https://www.thesteadschool.org/event/girls-soccer-game-vs-ellicott-sr-high-school/
LOCATION:Ellicott Sr. High School\, 375 S Ellicott Hwy\, Calhan\, CO\, 80808\, United States
END:VEVENT
BEGIN:VEVENT
DTSTART;TZID=America/Denver:20220422T160000
DTEND;TZID=America/Denver:20220422T173000
DTSTAMP:20260419T150210
CREATED:20220314T191853Z
LAST-MODIFIED:20220314T191853Z
UID:3599-1650643200-1650648600@www.thesteadschool.org
SUMMARY:Girls Soccer vs. Windsor Charter Academy
DESCRIPTION:
URL:https://www.thesteadschool.org/event/girls-soccer-vs-windsor-charter-academy/
LOCATION:Windsor Charter Academy\, 810 Automation Dr\, Windsor\, CO\, 80550\, United States
END:VEVENT
BEGIN:VEVENT
DTSTART;VALUE=DATE:20220428
DTEND;VALUE=DATE:20220429
DTSTAMP:20260419T150210
CREATED:20210929T200009Z
LAST-MODIFIED:20210929T200009Z
UID:3073-1651104000-1651190399@www.thesteadschool.org
SUMMARY:PSAT9 Make-up
DESCRIPTION:
URL:https://www.thesteadschool.org/event/psat9-make-up/
END:VEVENT
END:VCALENDAR