BEGIN:VCALENDAR
VERSION:2.0
PRODID:-//The STEAD School - ECPv6.15.20//NONSGML v1.0//EN
CALSCALE:GREGORIAN
METHOD:PUBLISH
X-WR-CALNAME:The STEAD School
X-ORIGINAL-URL:https://www.thesteadschool.org
X-WR-CALDESC:Events for The STEAD School
REFRESH-INTERVAL;VALUE=DURATION:PT1H
X-Robots-Tag:noindex
X-PUBLISHED-TTL:PT1H
BEGIN:VTIMEZONE
TZID:America/Denver
BEGIN:DAYLIGHT
TZOFFSETFROM:-0700
TZOFFSETTO:-0600
TZNAME:MDT
DTSTART:20210314T090000
END:DAYLIGHT
BEGIN:STANDARD
TZOFFSETFROM:-0600
TZOFFSETTO:-0700
TZNAME:MST
DTSTART:20211107T080000
END:STANDARD
BEGIN:DAYLIGHT
TZOFFSETFROM:-0700
TZOFFSETTO:-0600
TZNAME:MDT
DTSTART:20220313T090000
END:DAYLIGHT
BEGIN:STANDARD
TZOFFSETFROM:-0600
TZOFFSETTO:-0700
TZNAME:MST
DTSTART:20221106T080000
END:STANDARD
BEGIN:DAYLIGHT
TZOFFSETFROM:-0700
TZOFFSETTO:-0600
TZNAME:MDT
DTSTART:20230312T090000
END:DAYLIGHT
BEGIN:STANDARD
TZOFFSETFROM:-0600
TZOFFSETTO:-0700
TZNAME:MST
DTSTART:20231105T080000
END:STANDARD
BEGIN:DAYLIGHT
TZOFFSETFROM:-0700
TZOFFSETTO:-0600
TZNAME:MDT
DTSTART:20240310T090000
END:DAYLIGHT
BEGIN:STANDARD
TZOFFSETFROM:-0600
TZOFFSETTO:-0700
TZNAME:MST
DTSTART:20241103T080000
END:STANDARD
END:VTIMEZONE
BEGIN:VEVENT
DTSTART;TZID=America/Denver:20230511T180000
DTEND;TZID=America/Denver:20230511T200000
DTSTAMP:20260424T135839
CREATED:20220719T022557Z
LAST-MODIFIED:20220719T022557Z
UID:4276-1683828000-1683835200@www.thesteadschool.org
SUMMARY:SAC Meeting
DESCRIPTION:School Accountability Committee (SAC) Meetings are held at the STEAD School in person and are open to the community.
URL:https://www.thesteadschool.org/event/sac-meeting-6/
LOCATION:The STEAD School\, 18251 Homestead Trail\, Commerce City\, CO\, 80022\, United States
END:VEVENT
BEGIN:VEVENT
DTSTART;TZID=America/Denver:20230309T180000
DTEND;TZID=America/Denver:20230309T200000
DTSTAMP:20260424T135839
CREATED:20220719T022504Z
LAST-MODIFIED:20220719T022929Z
UID:4274-1678384800-1678392000@www.thesteadschool.org
SUMMARY:SAC Meeting
DESCRIPTION:School Accountability Committee (SAC) Meetings are held at the STEAD School in person and are open to the community.
URL:https://www.thesteadschool.org/event/sac-meeting-5/
LOCATION:The STEAD School\, 18251 Homestead Trail\, Commerce City\, CO\, 80022\, United States
END:VEVENT
BEGIN:VEVENT
DTSTART;TZID=America/Denver:20230112T180000
DTEND;TZID=America/Denver:20230112T200000
DTSTAMP:20260424T135839
CREATED:20220719T022405Z
LAST-MODIFIED:20220719T022843Z
UID:4272-1673546400-1673553600@www.thesteadschool.org
SUMMARY:SAC Meeting
DESCRIPTION:School Accountability Committee (SAC) Meetings are held at the STEAD School in person and are open to the community.
URL:https://www.thesteadschool.org/event/sac-meeting-4/
LOCATION:The STEAD School\, 18251 Homestead Trail\, Commerce City\, CO\, 80022\, United States
END:VEVENT
BEGIN:VEVENT
DTSTART;TZID=America/Denver:20221110T180000
DTEND;TZID=America/Denver:20221110T200000
DTSTAMP:20260424T135839
CREATED:20220719T022314Z
LAST-MODIFIED:20220719T022801Z
UID:4270-1668103200-1668110400@www.thesteadschool.org
SUMMARY:SAC Meeting
DESCRIPTION:School Accountability Committee (SAC) Meetings are held at the STEAD School in person and are open to the community.
URL:https://www.thesteadschool.org/event/sac-meeting-3/
LOCATION:The STEAD School\, 18251 Homestead Trail\, Commerce City\, CO\, 80022\, United States
END:VEVENT
BEGIN:VEVENT
DTSTART;TZID=America/Denver:20220908T180000
DTEND;TZID=America/Denver:20220908T200000
DTSTAMP:20260424T135839
CREATED:20220719T021952Z
LAST-MODIFIED:20220904T182813Z
UID:4267-1662660000-1662667200@www.thesteadschool.org
SUMMARY:SAC Meeting
DESCRIPTION:School Accountability Committee (SAC) Meetings are held at the STEAD School in person and are open to the community. \n  \n 
URL:https://www.thesteadschool.org/event/sac-meeting-2/
LOCATION:The STEAD School\, 18251 Homestead Trail\, Commerce City\, CO\, 80022\, United States
END:VEVENT
END:VCALENDAR