BEGIN:VCALENDAR
VERSION:2.0
PRODID:-//The STEAD School - ECPv6.15.20//NONSGML v1.0//EN
CALSCALE:GREGORIAN
METHOD:PUBLISH
X-WR-CALNAME:The STEAD School
X-ORIGINAL-URL:https://www.thesteadschool.org
X-WR-CALDESC:Events for The STEAD School
REFRESH-INTERVAL;VALUE=DURATION:PT1H
X-Robots-Tag:noindex
X-PUBLISHED-TTL:PT1H
BEGIN:VTIMEZONE
TZID:America/Denver
BEGIN:DAYLIGHT
TZOFFSETFROM:-0700
TZOFFSETTO:-0600
TZNAME:MDT
DTSTART:20200308T090000
END:DAYLIGHT
BEGIN:STANDARD
TZOFFSETFROM:-0600
TZOFFSETTO:-0700
TZNAME:MST
DTSTART:20201101T080000
END:STANDARD
BEGIN:DAYLIGHT
TZOFFSETFROM:-0700
TZOFFSETTO:-0600
TZNAME:MDT
DTSTART:20210314T090000
END:DAYLIGHT
BEGIN:STANDARD
TZOFFSETFROM:-0600
TZOFFSETTO:-0700
TZNAME:MST
DTSTART:20211107T080000
END:STANDARD
BEGIN:DAYLIGHT
TZOFFSETFROM:-0700
TZOFFSETTO:-0600
TZNAME:MDT
DTSTART:20220313T090000
END:DAYLIGHT
BEGIN:STANDARD
TZOFFSETFROM:-0600
TZOFFSETTO:-0700
TZNAME:MST
DTSTART:20221106T080000
END:STANDARD
BEGIN:DAYLIGHT
TZOFFSETFROM:-0700
TZOFFSETTO:-0600
TZNAME:MDT
DTSTART:20230312T090000
END:DAYLIGHT
BEGIN:STANDARD
TZOFFSETFROM:-0600
TZOFFSETTO:-0700
TZNAME:MST
DTSTART:20231105T080000
END:STANDARD
END:VTIMEZONE
BEGIN:VEVENT
DTSTART;TZID=America/Denver:20220412T170000
DTEND;TZID=America/Denver:20220412T180000
DTSTAMP:20260424T104239
CREATED:20220410T194827Z
LAST-MODIFIED:20220410T200031Z
UID:3679-1649782800-1649786400@www.thesteadschool.org
SUMMARY:Spring Cultivate Meeting
DESCRIPTION:Please join us at The STEAD Spring Cultivate Meeting on Tuesday\, April 12th from 5-6pm @The STEAD School where we will share overall school updates and information.
URL:https://www.thesteadschool.org/event/spring-cultivate-meeting/
LOCATION:The STEAD School\, 18251 Homestead Trail\, Commerce City\, CO\, 80022\, United States
END:VEVENT
BEGIN:VEVENT
DTSTART;TZID=America/Denver:20220404T180000
DTEND;TZID=America/Denver:20220404T200000
DTSTAMP:20260424T104239
CREATED:20220403T045030Z
LAST-MODIFIED:20220403T144040Z
UID:3639-1649095200-1649102400@www.thesteadschool.org
SUMMARY:Board Meeting
DESCRIPTION:The STEAD School Board Meeting – Now held in person at The STEAD School.
URL:https://www.thesteadschool.org/event/board-meeting-3/2022-04-04/
LOCATION:The STEAD School\, 18251 Homestead Trail\, Commerce City\, CO\, 80022\, United States
END:VEVENT
BEGIN:VEVENT
DTSTART;TZID=America/Denver:20220329T151500
DTEND;TZID=America/Denver:20220329T160000
DTSTAMP:20260424T104239
CREATED:20220314T180649Z
LAST-MODIFIED:20220314T181141Z
UID:3575-1648566900-1648569600@www.thesteadschool.org
SUMMARY:STEAD School Tour
DESCRIPTION:Want your students to experience the STEAD model with our guide staff for themselves? Parents are not required\, but welcome. These events will be offered LIVE ONLY. Please click the link below to sign up. \nSIGN UP HERE! \nIf this time does not work for you\, please call or email the school to schedule an alternative time.
URL:https://www.thesteadschool.org/event/stead-school-tour-14/2022-03-29/
LOCATION:The STEAD School\, 18251 Homestead Trail\, Commerce City\, CO\, 80022\, United States
END:VEVENT
BEGIN:VEVENT
DTSTART;TZID=America/Denver:20220215T140000
DTEND;TZID=America/Denver:20220215T144500
DTSTAMP:20260424T104239
CREATED:20220124T213241Z
LAST-MODIFIED:20220124T213241Z
UID:3469-1644933600-1644936300@www.thesteadschool.org
SUMMARY:STEAD School Tour
DESCRIPTION:Want your students to experience the STEAD model with our guide staff for themselves? Parents are not required\, but welcome. These events will be offered LIVE ONLY. Please click the link below to sign up. \nSIGN UP HERE!
URL:https://www.thesteadschool.org/event/stead-school-tour-13/
LOCATION:The STEAD School\, 18251 Homestead Trail\, Commerce City\, CO\, 80022\, United States
END:VEVENT
BEGIN:VEVENT
DTSTART;TZID=America/Denver:20220215T084500
DTEND;TZID=America/Denver:20220215T093000
DTSTAMP:20260424T104239
CREATED:20220124T213135Z
LAST-MODIFIED:20220124T213135Z
UID:3467-1644914700-1644917400@www.thesteadschool.org
SUMMARY:STEAD School Tour
DESCRIPTION:Want your students to experience the STEAD model with our guide staff for themselves? Parents are not required\, but welcome. These events will be offered LIVE ONLY. Please click the link below to sign up. \nSIGN UP HERE!
URL:https://www.thesteadschool.org/event/stead-school-tour-12/
LOCATION:The STEAD School\, 18251 Homestead Trail\, Commerce City\, CO\, 80022\, United States
END:VEVENT
BEGIN:VEVENT
DTSTART;TZID=America/Denver:20220214T140000
DTEND;TZID=America/Denver:20220214T144500
DTSTAMP:20260424T104239
CREATED:20220124T213036Z
LAST-MODIFIED:20220124T213036Z
UID:3465-1644847200-1644849900@www.thesteadschool.org
SUMMARY:STEAD School Tour
DESCRIPTION:Want your students to experience the STEAD model with our guide staff for themselves? Parents are not required\, but welcome. These events will be offered LIVE ONLY. Please click the link below to sign up. \nSIGN UP HERE!
URL:https://www.thesteadschool.org/event/stead-school-tour-11/
LOCATION:The STEAD School\, 18251 Homestead Trail\, Commerce City\, CO\, 80022\, United States
END:VEVENT
BEGIN:VEVENT
DTSTART;TZID=America/Denver:20220214T084500
DTEND;TZID=America/Denver:20220214T093000
DTSTAMP:20260424T104239
CREATED:20220124T212927Z
LAST-MODIFIED:20220124T212927Z
UID:3463-1644828300-1644831000@www.thesteadschool.org
SUMMARY:STEAD School Tour
DESCRIPTION:Want your students to experience the STEAD model with our guide staff for themselves? Parents are not required\, but welcome. These events will be offered LIVE ONLY. Please click the link below to sign up. \nSIGN UP HERE!
URL:https://www.thesteadschool.org/event/stead-school-tour-10/
LOCATION:The STEAD School\, 18251 Homestead Trail\, Commerce City\, CO\, 80022\, United States
END:VEVENT
BEGIN:VEVENT
DTSTART;TZID=America/Denver:20220210T180000
DTEND;TZID=America/Denver:20220210T193000
DTSTAMP:20260424T104239
CREATED:20220121T211847Z
LAST-MODIFIED:20220121T211847Z
UID:3389-1644516000-1644521400@www.thesteadschool.org
SUMMARY:STEAD Student Nights
DESCRIPTION:We are offering Student Nights where students (and their parents if you’d like to come) will get to experience The STEAD model with our guide staff in person! Please click the link below to sign up. \nSIGN-UP HERE
URL:https://www.thesteadschool.org/event/stead-student-nights-2/
LOCATION:The STEAD School\, 18251 Homestead Trail\, Commerce City\, CO\, 80022\, United States
END:VEVENT
BEGIN:VEVENT
DTSTART;TZID=America/Denver:20220209T140000
DTEND;TZID=America/Denver:20220209T144500
DTSTAMP:20260424T104239
CREATED:20220124T212705Z
LAST-MODIFIED:20220124T212705Z
UID:3459-1644415200-1644417900@www.thesteadschool.org
SUMMARY:STEAD School Tour
DESCRIPTION:Want your students to experience the STEAD model with our guide staff for themselves? Parents are not required\, but welcome. These events will be offered LIVE ONLY. Please click the link below to sign up. \nSIGN UP HERE!
URL:https://www.thesteadschool.org/event/stead-school-tour-9/
LOCATION:The STEAD School\, 18251 Homestead Trail\, Commerce City\, CO\, 80022\, United States
END:VEVENT
BEGIN:VEVENT
DTSTART;TZID=America/Denver:20220209T084500
DTEND;TZID=America/Denver:20220209T093000
DTSTAMP:20260424T104239
CREATED:20220124T212604Z
LAST-MODIFIED:20220124T212604Z
UID:3457-1644396300-1644399000@www.thesteadschool.org
SUMMARY:STEAD School Tour
DESCRIPTION:Want your students to experience the STEAD model with our guide staff for themselves? Parents are not required\, but welcome. These events will be offered LIVE ONLY. Please click the link below to sign up. \nSIGN UP HERE!
URL:https://www.thesteadschool.org/event/stead-school-tour-8/
LOCATION:The STEAD School\, 18251 Homestead Trail\, Commerce City\, CO\, 80022\, United States
END:VEVENT
BEGIN:VEVENT
DTSTART;TZID=America/Denver:20220208T140000
DTEND;TZID=America/Denver:20220208T144500
DTSTAMP:20260424T104239
CREATED:20220124T212457Z
LAST-MODIFIED:20220124T212825Z
UID:3455-1644328800-1644331500@www.thesteadschool.org
SUMMARY:STEAD School Tour
DESCRIPTION:Want your students to experience the STEAD model with our guide staff for themselves? Parents are not required\, but welcome. These events will be offered LIVE ONLY. Please click the link below to sign up. \nSIGN UP HERE!
URL:https://www.thesteadschool.org/event/stead-school-tours-2/
LOCATION:The STEAD School\, 18251 Homestead Trail\, Commerce City\, CO\, 80022\, United States
END:VEVENT
BEGIN:VEVENT
DTSTART;TZID=America/Denver:20220208T084500
DTEND;TZID=America/Denver:20220208T093000
DTSTAMP:20260424T104239
CREATED:20220124T212347Z
LAST-MODIFIED:20220124T212818Z
UID:3453-1644309900-1644312600@www.thesteadschool.org
SUMMARY:STEAD School Tour
DESCRIPTION:Want your students to experience the STEAD model with our guide staff for themselves? Parents are not required\, but welcome. These events will be offered LIVE ONLY. Please click the link below to sign up. \nSIGN UP HERE!
URL:https://www.thesteadschool.org/event/stead-school-tours/
LOCATION:The STEAD School\, 18251 Homestead Trail\, Commerce City\, CO\, 80022\, United States
END:VEVENT
BEGIN:VEVENT
DTSTART;TZID=America/Denver:20220207T180000
DTEND;TZID=America/Denver:20220207T193000
DTSTAMP:20260424T104239
CREATED:20220114T171310Z
LAST-MODIFIED:20220121T211750Z
UID:3375-1644256800-1644262200@www.thesteadschool.org
SUMMARY:STEAD Student Nights
DESCRIPTION:We are offering Student Nights where students (and their parents if you’d like to come) will get to experience The STEAD model with our guide staff in person! Please click the link below to sign up. \nSIGN-UP HERE
URL:https://www.thesteadschool.org/event/stead-student-nights/
LOCATION:The STEAD School\, 18251 Homestead Trail\, Commerce City\, CO\, 80022\, United States
END:VEVENT
BEGIN:VEVENT
DTSTART;TZID=America/Denver:20220207T140000
DTEND;TZID=America/Denver:20220207T144500
DTSTAMP:20260424T104239
CREATED:20220124T203732Z
LAST-MODIFIED:20220124T203732Z
UID:3451-1644242400-1644245100@www.thesteadschool.org
SUMMARY:STEAD School Tour
DESCRIPTION:Want your students to experience the STEAD model with our guide staff for themselves? Parents are not required\, but welcome. These events will be offered LIVE ONLY. Please click the link below to sign up. \nSIGN UP HERE! \n 
URL:https://www.thesteadschool.org/event/stead-school-tour-7/
LOCATION:The STEAD School\, 18251 Homestead Trail\, Commerce City\, CO\, 80022\, United States
END:VEVENT
BEGIN:VEVENT
DTSTART;TZID=America/Denver:20220207T084500
DTEND;TZID=America/Denver:20220207T093000
DTSTAMP:20260424T104239
CREATED:20220124T203608Z
LAST-MODIFIED:20220124T203608Z
UID:3449-1644223500-1644226200@www.thesteadschool.org
SUMMARY:STEAD School Tour
DESCRIPTION:Want your students to experience the STEAD model with our guide staff for themselves? Parents are not required\, but welcome. These events will be offered LIVE ONLY. Please click the link below to sign up. \nSIGN UP HERE! \n 
URL:https://www.thesteadschool.org/event/stead-school-tour-6/
LOCATION:The STEAD School\, 18251 Homestead Trail\, Commerce City\, CO\, 80022\, United States
END:VEVENT
BEGIN:VEVENT
DTSTART;TZID=America/Denver:20220202T084500
DTEND;TZID=America/Denver:20220202T093000
DTSTAMP:20260424T104239
CREATED:20220124T203004Z
LAST-MODIFIED:20220124T203004Z
UID:3447-1643791500-1643794200@www.thesteadschool.org
SUMMARY:STEAD School Tour
DESCRIPTION:Want your students to experience the STEAD model with our guide staff for themselves? Parents are not required\, but welcome. These events will be offered LIVE ONLY. Please click the link below to sign up. \nSIGN UP HERE!
URL:https://www.thesteadschool.org/event/stead-school-tour-5/
LOCATION:The STEAD School\, 18251 Homestead Trail\, Commerce City\, CO\, 80022\, United States
END:VEVENT
BEGIN:VEVENT
DTSTART;TZID=America/Denver:20220201T140000
DTEND;TZID=America/Denver:20220201T144500
DTSTAMP:20260424T104239
CREATED:20220124T202851Z
LAST-MODIFIED:20220124T202851Z
UID:3445-1643724000-1643726700@www.thesteadschool.org
SUMMARY:STEAD School Tour
DESCRIPTION:Want your students to experience the STEAD model with our guide staff for themselves? Parents are not required\, but welcome. These events will be offered LIVE ONLY. Please click the link below to sign up. \nSIGN UP HERE! \n 
URL:https://www.thesteadschool.org/event/stead-school-tour-4/
LOCATION:The STEAD School\, 18251 Homestead Trail\, Commerce City\, CO\, 80022\, United States
END:VEVENT
BEGIN:VEVENT
DTSTART;TZID=America/Denver:20220201T084500
DTEND;TZID=America/Denver:20220201T093000
DTSTAMP:20260424T104239
CREATED:20220124T202653Z
LAST-MODIFIED:20220124T202653Z
UID:3443-1643705100-1643707800@www.thesteadschool.org
SUMMARY:STEAD School Tour
DESCRIPTION:Want your students to experience the STEAD model with our guide staff for themselves? Parents are not required\, but welcome. These events will be offered LIVE ONLY. Please click the link below to sign up. \nSIGN UP HERE! \n 
URL:https://www.thesteadschool.org/event/stead-school-tour-3/
LOCATION:The STEAD School\, 18251 Homestead Trail\, Commerce City\, CO\, 80022\, United States
END:VEVENT
BEGIN:VEVENT
DTSTART;TZID=America/Denver:20220131T140000
DTEND;TZID=America/Denver:20220131T144500
DTSTAMP:20260424T104239
CREATED:20220124T184020Z
LAST-MODIFIED:20220124T184201Z
UID:3405-1643637600-1643640300@www.thesteadschool.org
SUMMARY:STEAD School Tour
DESCRIPTION:Want your students to experience the STEAD model with our guide staff for themselves? Parents are not required\, but welcome. These events will be offered LIVE ONLY. Please click the link below to sign up. \nSIGN UP HERE! \n 
URL:https://www.thesteadschool.org/event/stead-school-tour-2/
LOCATION:The STEAD School\, 18251 Homestead Trail\, Commerce City\, CO\, 80022\, United States
END:VEVENT
BEGIN:VEVENT
DTSTART;TZID=America/Denver:20211029T080000
DTEND;TZID=America/Denver:20211029T170000
DTSTAMP:20260424T104239
CREATED:20211025T163613Z
LAST-MODIFIED:20211025T163613Z
UID:3169-1635494400-1635526800@www.thesteadschool.org
SUMMARY:Fall Fair Fundraiser
DESCRIPTION:Family and friends are invited to STEAD for a night of games\, food and fun! All Proceeds go directly to the student’s first dance and future events. Hope to see you there!\n\nHallows Eve Fall Fair Flyer 2021
URL:https://www.thesteadschool.org/event/fall-fair-fundraiser/
LOCATION:The STEAD School\, 18251 Homestead Trail\, Commerce City\, CO\, 80022\, United States
END:VEVENT
END:VCALENDAR